BEGIN:VCALENDAR
PRODID:-//vaccho.org.au//EN
VERSION:2.0
METHOD:PUBLISH
BEGIN:VEVENT
DTSTART;TZID=America/New_York:20210323T
DTEND;TZID=America/New_York:20210325T
URL:http://vaccho.org.au/events/members-meetings-and-agm/
SUMMARY:VACCHO Members meeting
END:VEVENT
END:VCALENDAR