BEGIN:VCALENDAR
PRODID:-//vaccho.org.au//EN
VERSION:2.0
METHOD:PUBLISH
BEGIN:VEVENT
DTSTART;TZID=America/New_York:20210701T
DTEND;TZID=America/New_York:20210701T
URL:http://vaccho.org.au/events/coming-of-the-light/
SUMMARY:Coming of the Light
END:VEVENT
END:VCALENDAR