BEGIN:VCALENDAR
PRODID:-//vaccho.org.au//EN
VERSION:2.0
METHOD:PUBLISH
BEGIN:VEVENT
DTSTART;TZID=America/New_York:20210527T
DTEND;TZID=America/New_York:20210603T
URL:http://vaccho.org.au/events/national-reconciliation-week/
SUMMARY:National  Reconciliation Week
END:VEVENT
END:VCALENDAR